BEGIN:VCALENDAR
VERSION:2.0
PRODID:-//ViaDarda - ECPv6.15.19//NONSGML v1.0//EN
CALSCALE:GREGORIAN
METHOD:PUBLISH
X-ORIGINAL-URL:https://viadarda.ch
X-WR-CALDESC:Évènements pour ViaDarda
REFRESH-INTERVAL;VALUE=DURATION:PT1H
X-Robots-Tag:noindex
X-PUBLISHED-TTL:PT1H
BEGIN:VTIMEZONE
TZID:Europe/Zurich
BEGIN:DAYLIGHT
TZOFFSETFROM:+0100
TZOFFSETTO:+0200
TZNAME:CEST
DTSTART:20240331T010000
END:DAYLIGHT
BEGIN:STANDARD
TZOFFSETFROM:+0200
TZOFFSETTO:+0100
TZNAME:CET
DTSTART:20241027T010000
END:STANDARD
BEGIN:DAYLIGHT
TZOFFSETFROM:+0100
TZOFFSETTO:+0200
TZNAME:CEST
DTSTART:20250330T010000
END:DAYLIGHT
BEGIN:STANDARD
TZOFFSETFROM:+0200
TZOFFSETTO:+0100
TZNAME:CET
DTSTART:20251026T010000
END:STANDARD
BEGIN:DAYLIGHT
TZOFFSETFROM:+0100
TZOFFSETTO:+0200
TZNAME:CEST
DTSTART:20260329T010000
END:DAYLIGHT
BEGIN:STANDARD
TZOFFSETFROM:+0200
TZOFFSETTO:+0100
TZNAME:CET
DTSTART:20261025T010000
END:STANDARD
END:VTIMEZONE
BEGIN:VEVENT
DTSTART;TZID=Europe/Zurich:20251107T170000
DTEND;TZID=Europe/Zurich:20251107T190000
DTSTAMP:20260421T210207
CREATED:20240210T123636Z
LAST-MODIFIED:20250717T121258Z
UID:759-1762534800-1762542000@viadarda.ch
SUMMARY:Présence au caveau – Domaine Les Faunes
DESCRIPTION:Le caveau des vignerons de Dardagny vous ouvre ses portes. \n\n\n\nVenez à la rencontre de nos vignerons déguster leurs produits sélectionnés et partager un moment.
URL:https://viadarda.ch/evenement/474-2-2-3-2-2/
LOCATION:Le Caveau ViaDarda\, Ch. du Rail\, La Plaine\, Genève\, 1283\, Suisse
CATEGORIES:Ouverture du caveau
ATTACH;FMTTYPE=image/jpeg:https://viadarda.ch/wp-content/uploads/2024/02/Domaine-des-Faunes_230524-Frederic-et-Ludovic-Mistral-HD-H.jpg
ORGANIZER;CN="Les Vignerons de Dardagny":MAILTO:contact@viadarda.ch
END:VEVENT
BEGIN:VEVENT
DTSTART;TZID=Europe/Zurich:20251108T130000
DTEND;TZID=Europe/Zurich:20251108T170000
DTSTAMP:20260421T210207
CREATED:20230520T114539Z
LAST-MODIFIED:20250717T121421Z
UID:761-1762606800-1762621200@viadarda.ch
SUMMARY:Présence au caveau - Domaine Les Faunes
DESCRIPTION:Le caveau des vignerons de Dardagny vous ouvre ses portes. \n\n\n\nVenez à la rencontre de nos vignerons déguster leurs produits sélectionnés et partager un moment.
URL:https://viadarda.ch/evenement/presence-au-caveau-domaine-dugerdil-dardagny-6-2-2-4-2-2/
LOCATION:Le Caveau ViaDarda\, Ch. du Rail\, La Plaine\, Genève\, 1283\, Suisse
CATEGORIES:Ouverture du caveau
ATTACH;FMTTYPE=image/jpeg:https://viadarda.ch/wp-content/uploads/2024/02/Domaine-des-Faunes_230524-Frederic-et-Ludovic-Mistral-HD-H.jpg
ORGANIZER;CN="Les Vignerons de Dardagny":MAILTO:contact@viadarda.ch
END:VEVENT
BEGIN:VEVENT
DTSTART;TZID=Europe/Zurich:20251114T170000
DTEND;TZID=Europe/Zurich:20251114T190000
DTSTAMP:20260421T210207
CREATED:20240210T123636Z
LAST-MODIFIED:20250717T121544Z
UID:765-1763139600-1763146800@viadarda.ch
SUMMARY:Présence au caveau – Domaine de Crêts Malval
DESCRIPTION:Le caveau des vignerons de Dardagny vous ouvre ses portes. \n\n\n\nVenez à la rencontre de nos vignerons déguster leurs produits sélectionnés et partager un moment.
URL:https://viadarda.ch/evenement/474-2-2-2-2-2-3-2-2/
LOCATION:Le Caveau ViaDarda\, Ch. du Rail\, La Plaine\, Genève\, 1283\, Suisse
CATEGORIES:Ouverture du caveau
ATTACH;FMTTYPE=image/jpeg:https://viadarda.ch/wp-content/uploads/2024/01/Domaine-des-Crets-Malval-Jacques-et-Roxanne-Pottu_230418-WEB-H.jpg
ORGANIZER;CN="Les Vignerons de Dardagny":MAILTO:contact@viadarda.ch
END:VEVENT
BEGIN:VEVENT
DTSTART;TZID=Europe/Zurich:20251115T130000
DTEND;TZID=Europe/Zurich:20251115T170000
DTSTAMP:20260421T210207
CREATED:20240129T101321Z
LAST-MODIFIED:20250717T121659Z
UID:767-1763211600-1763226000@viadarda.ch
SUMMARY:Présence au caveau - Domaine des Crêts Malval
DESCRIPTION:Le caveau des vignerons de Dardagny vous ouvre ses portes. \n\n\n\nVenez à la rencontre de nos vignerons déguster leurs produits sélectionnés et partager un moment.
URL:https://viadarda.ch/evenement/presence-au-caveau-domaine-des-crets-malval-10-2-2-2/
LOCATION:Le Caveau ViaDarda\, Ch. du Rail\, La Plaine\, Genève\, 1283\, Suisse
CATEGORIES:Ouverture du caveau
ATTACH;FMTTYPE=image/jpeg:https://viadarda.ch/wp-content/uploads/2024/01/Domaine-des-Crets-Malval-Jacques-et-Roxanne-Pottu_230418-WEB-H.jpg
ORGANIZER;CN="Les Vignerons de Dardagny":MAILTO:contact@viadarda.ch
END:VEVENT
BEGIN:VEVENT
DTSTART;TZID=Europe/Zurich:20251116T110000
DTEND;TZID=Europe/Zurich:20251116T150000
DTSTAMP:20260421T210207
CREATED:20240129T101321Z
LAST-MODIFIED:20250717T121621Z
UID:766-1763290800-1763305200@viadarda.ch
SUMMARY:Présence au caveau - Domaine des Crêts Malval
DESCRIPTION:Le caveau des vignerons de Dardagny vous ouvre ses portes. \n\n\n\nVenez à la rencontre de nos vignerons déguster leurs produits sélectionnés et partager un moment.
URL:https://viadarda.ch/evenement/presence-au-caveau-domaine-des-crets-malval-10-2-3/
LOCATION:Le Caveau ViaDarda\, Ch. du Rail\, La Plaine\, Genève\, 1283\, Suisse
CATEGORIES:Ouverture du caveau
ATTACH;FMTTYPE=image/jpeg:https://viadarda.ch/wp-content/uploads/2024/01/Domaine-des-Crets-Malval-Jacques-et-Roxanne-Pottu_230418-WEB-H.jpg
ORGANIZER;CN="Les Vignerons de Dardagny":MAILTO:contact@viadarda.ch
END:VEVENT
BEGIN:VEVENT
DTSTART;TZID=Europe/Zurich:20251121T170000
DTEND;TZID=Europe/Zurich:20251121T190000
DTSTAMP:20260421T210207
CREATED:20240210T123636Z
LAST-MODIFIED:20250717T122038Z
UID:773-1763744400-1763751600@viadarda.ch
SUMMARY:Présence au caveau – Domaine des Hutins
DESCRIPTION:Le caveau des vignerons de Dardagny vous ouvre ses portes. \n\n\n\nVenez à la rencontre de nos vignerons déguster leurs produits sélectionnés et partager un moment.
URL:https://viadarda.ch/evenement/474-2-2-2-2-2-2-4/
LOCATION:Le Caveau ViaDarda\, Ch. du Rail\, La Plaine\, Genève\, 1283\, Suisse
CATEGORIES:Ouverture du caveau
ATTACH;FMTTYPE=image/jpeg:https://viadarda.ch/wp-content/uploads/2024/01/Domaine-les-Hutins-Emilienne-et-Guillaume-230626-H-WEB.jpg
ORGANIZER;CN="Les Vignerons de Dardagny":MAILTO:contact@viadarda.ch
END:VEVENT
BEGIN:VEVENT
DTSTART;TZID=Europe/Zurich:20251122T130000
DTEND;TZID=Europe/Zurich:20251122T170000
DTSTAMP:20260421T210207
CREATED:20240129T101817Z
LAST-MODIFIED:20250717T122240Z
UID:772-1763816400-1763830800@viadarda.ch
SUMMARY:Présence au caveau - Domaine des Hutins
DESCRIPTION:Le caveau des vignerons de Dardagny vous ouvre ses portes. \n\n\n\nVenez à la rencontre de nos vignerons déguster leurs produits sélectionnés et partager un moment.
URL:https://viadarda.ch/evenement/presence-au-caveau-domaine-des-hutins-10-2-2/
LOCATION:Le Caveau ViaDarda\, Ch. du Rail\, La Plaine\, Genève\, 1283\, Suisse
CATEGORIES:Ouverture du caveau
ATTACH;FMTTYPE=image/jpeg:https://viadarda.ch/wp-content/uploads/2024/01/Domaine-les-Hutins-Emilienne-et-Guillaume-230626-H-WEB.jpg
ORGANIZER;CN="Les Vignerons de Dardagny":MAILTO:contact@viadarda.ch
END:VEVENT
BEGIN:VEVENT
DTSTART;TZID=Europe/Zurich:20251123T110000
DTEND;TZID=Europe/Zurich:20251123T150000
DTSTAMP:20260421T210207
CREATED:20240129T101940Z
LAST-MODIFIED:20250717T122115Z
UID:771-1763895600-1763910000@viadarda.ch
SUMMARY:Présence au caveau - Domaine des Hutins
DESCRIPTION:Le caveau des vignerons de Dardagny vous ouvre ses portes. \n\n\n\nVenez à la rencontre de nos vignerons déguster leurs produits sélectionnés et partager un moment.
URL:https://viadarda.ch/evenement/presence-au-caveau-domaine-des-hutins-11-2-2/
LOCATION:Le Caveau ViaDarda\, Ch. du Rail\, La Plaine\, Genève\, 1283\, Suisse
CATEGORIES:Ouverture du caveau
ATTACH;FMTTYPE=image/jpeg:https://viadarda.ch/wp-content/uploads/2024/01/Domaine-les-Hutins-Emilienne-et-Guillaume-230626-H-WEB.jpg
ORGANIZER;CN="Les Vignerons de Dardagny":MAILTO:contact@viadarda.ch
END:VEVENT
BEGIN:VEVENT
DTSTART;TZID=Europe/Zurich:20251128T180000
DTEND;TZID=Europe/Zurich:20251128T210000
DTSTAMP:20260421T210207
CREATED:20230520T114612Z
LAST-MODIFIED:20251128T100041Z
UID:780-1764352800-1764363600@viadarda.ch
SUMMARY:Soirée spéciale Mousseux
DESCRIPTION:Tous les vignerons seront présents ce vendredi pour vous faire déguster leurs mousseux et préparer les fêtes de la meilleure manière qui soit !
URL:https://viadarda.ch/evenement/presence-au-caveau-domaine-de-la-roche-12-2-2-3/
LOCATION:Le Caveau ViaDarda\, Ch. du Rail\, La Plaine\, Genève\, 1283\, Suisse
CATEGORIES:Dégustation à Thème
ATTACH;FMTTYPE=image/jpeg:https://viadarda.ch/wp-content/uploads/2023/05/IMG-20251126-WA00021.jpg
ORGANIZER;CN="Les Vignerons de Dardagny":MAILTO:contact@viadarda.ch
END:VEVENT
BEGIN:VEVENT
DTSTART;TZID=Europe/Zurich:20251129T130000
DTEND;TZID=Europe/Zurich:20251129T170000
DTSTAMP:20260421T210207
CREATED:20230520T114612Z
LAST-MODIFIED:20250717T122758Z
UID:779-1764421200-1764435600@viadarda.ch
SUMMARY:Présence au caveau - Domaine de la Roche
DESCRIPTION:Le caveau des vignerons de Dardagny vous ouvre ses portes. \n\n\n\nVenez à la rencontre de nos vignerons déguster leurs produits sélectionnés et partager un moment.
URL:https://viadarda.ch/evenement/presence-au-caveau-domaine-de-la-roche-12-2-2-2/
LOCATION:Le Caveau ViaDarda\, Ch. du Rail\, La Plaine\, Genève\, 1283\, Suisse
CATEGORIES:Ouverture du caveau
ATTACH;FMTTYPE=image/jpeg:https://viadarda.ch/wp-content/uploads/2023/05/Domaine_de_la_Roche_Sandrine-Bersier-0001122-WEB-1a.jpg
ORGANIZER;CN="Les Vignerons de Dardagny":MAILTO:contact@viadarda.ch
END:VEVENT
BEGIN:VEVENT
DTSTART;TZID=Europe/Zurich:20251130T110000
DTEND;TZID=Europe/Zurich:20251130T150000
DTSTAMP:20260421T210207
CREATED:20230520T114612Z
LAST-MODIFIED:20250717T122719Z
UID:778-1764500400-1764514800@viadarda.ch
SUMMARY:Présence au caveau - Domaine de la Roche
DESCRIPTION:Le caveau des vignerons de Dardagny vous ouvre ses portes. \n\n\n\nVenez à la rencontre de nos vignerons déguster leurs produits sélectionnés et partager un moment.
URL:https://viadarda.ch/evenement/presence-au-caveau-domaine-de-la-roche-12-2-4/
LOCATION:Le Caveau ViaDarda\, Ch. du Rail\, La Plaine\, Genève\, 1283\, Suisse
CATEGORIES:Ouverture du caveau
ATTACH;FMTTYPE=image/jpeg:https://viadarda.ch/wp-content/uploads/2023/05/Domaine_de_la_Roche_Sandrine-Bersier-0001122-WEB-1a.jpg
ORGANIZER;CN="Les Vignerons de Dardagny":MAILTO:contact@viadarda.ch
END:VEVENT
END:VCALENDAR