BEGIN:VCALENDAR
VERSION:2.0
PRODID:-//ViaDarda - ECPv6.15.19//NONSGML v1.0//EN
CALSCALE:GREGORIAN
METHOD:PUBLISH
X-ORIGINAL-URL:https://viadarda.ch
X-WR-CALDESC:Évènements pour ViaDarda
REFRESH-INTERVAL;VALUE=DURATION:PT1H
X-Robots-Tag:noindex
X-PUBLISHED-TTL:PT1H
BEGIN:VTIMEZONE
TZID:Europe/Zurich
BEGIN:DAYLIGHT
TZOFFSETFROM:+0100
TZOFFSETTO:+0200
TZNAME:CEST
DTSTART:20240331T010000
END:DAYLIGHT
BEGIN:STANDARD
TZOFFSETFROM:+0200
TZOFFSETTO:+0100
TZNAME:CET
DTSTART:20241027T010000
END:STANDARD
BEGIN:DAYLIGHT
TZOFFSETFROM:+0100
TZOFFSETTO:+0200
TZNAME:CEST
DTSTART:20250330T010000
END:DAYLIGHT
BEGIN:STANDARD
TZOFFSETFROM:+0200
TZOFFSETTO:+0100
TZNAME:CET
DTSTART:20251026T010000
END:STANDARD
BEGIN:DAYLIGHT
TZOFFSETFROM:+0100
TZOFFSETTO:+0200
TZNAME:CEST
DTSTART:20260329T010000
END:DAYLIGHT
BEGIN:STANDARD
TZOFFSETFROM:+0200
TZOFFSETTO:+0100
TZNAME:CET
DTSTART:20261025T010000
END:STANDARD
END:VTIMEZONE
BEGIN:VEVENT
DTSTART;TZID=Europe/Zurich:20250704T170000
DTEND;TZID=Europe/Zurich:20250704T190000
DTSTAMP:20260421T125936
CREATED:20240210T123636Z
LAST-MODIFIED:20250430T151555Z
UID:558-1751648400-1751655600@viadarda.ch
SUMMARY:Présence au caveau – Domaine de la Planta
DESCRIPTION:Le caveau des vignerons de Dardagny vous ouvre ses portes. \n\n\n\nVenez à la rencontre de nos vignerons déguster leurs produits sélectionnés et partager un moment.
URL:https://viadarda.ch/evenement/474-2-2-2-2/
LOCATION:Le Caveau ViaDarda\, Ch. du Rail\, La Plaine\, Genève\, 1283\, Suisse
CATEGORIES:Ouverture du caveau
ATTACH;FMTTYPE=image/jpeg:https://viadarda.ch/wp-content/uploads/2023/05/Domaine-de-la-Planta_Jean-David-Gaillard_230509-HD-H.jpg
ORGANIZER;CN="Les Vignerons de Dardagny":MAILTO:contact@viadarda.ch
END:VEVENT
BEGIN:VEVENT
DTSTART;TZID=Europe/Zurich:20250705T130000
DTEND;TZID=Europe/Zurich:20250705T170000
DTSTAMP:20260421T125936
CREATED:20230520T114539Z
LAST-MODIFIED:20250430T151649Z
UID:698-1751720400-1751734800@viadarda.ch
SUMMARY:Présence au caveau - Domaine de la Planta
DESCRIPTION:Le caveau des vignerons de Dardagny vous ouvre ses portes. \n\n\n\nVenez à la rencontre de nos vignerons déguster leurs produits sélectionnés et partager un moment.
URL:https://viadarda.ch/evenement/presence-au-caveau-domaine-dugerdil-dardagny-6-2-2-2-2-3/
LOCATION:Le Caveau ViaDarda\, Ch. du Rail\, La Plaine\, Genève\, 1283\, Suisse
CATEGORIES:Ouverture du caveau
ATTACH;FMTTYPE=image/jpeg:https://viadarda.ch/wp-content/uploads/2023/05/Domaine-de-la-Planta_Jean-David-Gaillard_230509-HD-H.jpg
ORGANIZER;CN="Les Vignerons de Dardagny":MAILTO:contact@viadarda.ch
END:VEVENT
BEGIN:VEVENT
DTSTART;TZID=Europe/Zurich:20250706T110000
DTEND;TZID=Europe/Zurich:20250706T150000
DTSTAMP:20260421T125936
CREATED:20230520T112547Z
LAST-MODIFIED:20250430T151746Z
UID:700-1751799600-1751814000@viadarda.ch
SUMMARY:Présence au caveau - Domaine de la Planta
DESCRIPTION:Le caveau des vignerons de Dardagny vous ouvre ses portes. \n\n\n\nVenez à la rencontre de nos vignerons déguster leurs produits sélectionnés et partager un moment.
URL:https://viadarda.ch/evenement/presence-au-caveau-domaine-de-la-planta-6-2/
LOCATION:Le Caveau ViaDarda\, Ch. du Rail\, La Plaine\, Genève\, 1283\, Suisse
CATEGORIES:Ouverture du caveau
ATTACH;FMTTYPE=image/jpeg:https://viadarda.ch/wp-content/uploads/2023/05/Domaine-de-la-Planta_Jean-David-Gaillard_230509-HD-H.jpg
ORGANIZER;CN="Les Vignerons de Dardagny":MAILTO:contact@viadarda.ch
END:VEVENT
BEGIN:VEVENT
DTSTART;TZID=Europe/Zurich:20250711T170000
DTEND;TZID=Europe/Zurich:20250711T190000
DTSTAMP:20260421T125936
CREATED:20240210T123636Z
LAST-MODIFIED:20250430T151847Z
UID:702-1752253200-1752260400@viadarda.ch
SUMMARY:Présence au caveau – Domaine Les Esserts
DESCRIPTION:Le caveau des vignerons de Dardagny vous ouvre ses portes. \n\n\n\nVenez à la rencontre de nos vignerons déguster leurs produits sélectionnés et partager un moment.
URL:https://viadarda.ch/evenement/474-2-2-2-3-2/
LOCATION:Le Caveau ViaDarda\, Ch. du Rail\, La Plaine\, Genève\, 1283\, Suisse
CATEGORIES:Ouverture du caveau
ATTACH;FMTTYPE=image/jpeg:https://viadarda.ch/wp-content/uploads/2024/03/esserts.jpg
ORGANIZER;CN="Les Vignerons de Dardagny":MAILTO:contact@viadarda.ch
END:VEVENT
BEGIN:VEVENT
DTSTART;TZID=Europe/Zurich:20250712T130000
DTEND;TZID=Europe/Zurich:20250712T170000
DTSTAMP:20260421T125936
CREATED:20240325T181001Z
LAST-MODIFIED:20250430T152050Z
UID:704-1752325200-1752339600@viadarda.ch
SUMMARY:Présence au caveau - Domaine des Esserts
DESCRIPTION:Le caveau des vignerons de Dardagny vous ouvre ses portes. \n\n\n\nVenez à la rencontre de nos vignerons déguster leurs produits sélectionnés et partager un moment.
URL:https://viadarda.ch/evenement/presence-au-caveau-domaine-des-esserts-10-3/
LOCATION:Le Caveau ViaDarda\, Ch. du Rail\, La Plaine\, Genève\, 1283\, Suisse
CATEGORIES:Ouverture du caveau
ATTACH;FMTTYPE=image/jpeg:https://viadarda.ch/wp-content/uploads/2024/03/esserts.jpg
ORGANIZER;CN="Les Vignerons de Dardagny":MAILTO:contact@viadarda.ch
END:VEVENT
BEGIN:VEVENT
DTSTART;TZID=Europe/Zurich:20250713T110000
DTEND;TZID=Europe/Zurich:20250713T150000
DTSTAMP:20260421T125936
CREATED:20240325T181001Z
LAST-MODIFIED:20250430T151955Z
UID:705-1752404400-1752418800@viadarda.ch
SUMMARY:Présence au caveau - Domaine des Esserts
DESCRIPTION:Le caveau des vignerons de Dardagny vous ouvre ses portes. \n\n\n\nVenez à la rencontre de nos vignerons déguster leurs produits sélectionnés et partager un moment.
URL:https://viadarda.ch/evenement/presence-au-caveau-domaine-des-esserts-10-2-2/
LOCATION:Le Caveau ViaDarda\, Ch. du Rail\, La Plaine\, Genève\, 1283\, Suisse
CATEGORIES:Ouverture du caveau
ATTACH;FMTTYPE=image/jpeg:https://viadarda.ch/wp-content/uploads/2024/03/esserts.jpg
ORGANIZER;CN="Les Vignerons de Dardagny":MAILTO:contact@viadarda.ch
END:VEVENT
BEGIN:VEVENT
DTSTART;TZID=Europe/Zurich:20250718T170000
DTEND;TZID=Europe/Zurich:20250718T190000
DTSTAMP:20260421T125936
CREATED:20240210T123938Z
LAST-MODIFIED:20250717T114906Z
UID:721-1752858000-1752865200@viadarda.ch
SUMMARY:Présence au caveau – Domaine de Chafalet
DESCRIPTION:Le caveau des vignerons de Dardagny vous ouvre ses portes. \n\n\n\nVenez à la rencontre de nos vignerons déguster leurs produits sélectionnés et partager un moment.
URL:https://viadarda.ch/evenement/presence-au-caveau-domaine-de-chafalet-7-2-2/
LOCATION:Le Caveau ViaDarda\, Ch. du Rail\, La Plaine\, Genève\, 1283\, Suisse
CATEGORIES:Ouverture du caveau
ATTACH;FMTTYPE=image/jpeg:https://viadarda.ch/wp-content/uploads/2023/05/Domaine-de-Chafalet_Mathurin-Ramu_230516-WEB-H.jpg
ORGANIZER;CN="Les Vignerons de Dardagny":MAILTO:contact@viadarda.ch
END:VEVENT
BEGIN:VEVENT
DTSTART;TZID=Europe/Zurich:20250719T130000
DTEND;TZID=Europe/Zurich:20250719T170000
DTSTAMP:20260421T125936
CREATED:20230520T113040Z
LAST-MODIFIED:20250717T114956Z
UID:723-1752930000-1752944400@viadarda.ch
SUMMARY:Présence au caveau - Domaine de Chafalet
DESCRIPTION:Le caveau des vignerons de Dardagny vous ouvre ses portes. \n\n\n\nVenez à la rencontre de nos vignerons déguster leurs produits sélectionnés et partager un moment.
URL:https://viadarda.ch/evenement/presence-au-caveau-domaine-de-chafalet-8-2-2/
LOCATION:Le Caveau ViaDarda\, Ch. du Rail\, La Plaine\, Genève\, 1283\, Suisse
CATEGORIES:Ouverture du caveau
ATTACH;FMTTYPE=image/jpeg:https://viadarda.ch/wp-content/uploads/2023/05/Domaine-de-Chafalet_Mathurin-Ramu_230516-WEB-H.jpg
ORGANIZER;CN="Les Vignerons de Dardagny":MAILTO:contact@viadarda.ch
END:VEVENT
BEGIN:VEVENT
DTSTART;TZID=Europe/Zurich:20250720T110000
DTEND;TZID=Europe/Zurich:20250720T150000
DTSTAMP:20260421T125936
CREATED:20230520T113040Z
LAST-MODIFIED:20250717T115046Z
UID:722-1753009200-1753023600@viadarda.ch
SUMMARY:Présence au caveau - Domaine de Chafalet
DESCRIPTION:Le caveau des vignerons de Dardagny vous ouvre ses portes. \n\n\n\nVenez à la rencontre de nos vignerons déguster leurs produits sélectionnés et partager un moment.
URL:https://viadarda.ch/evenement/presence-au-caveau-domaine-de-chafalet-9-2-2/
LOCATION:Le Caveau ViaDarda\, Ch. du Rail\, La Plaine\, Genève\, 1283\, Suisse
CATEGORIES:Ouverture du caveau
ATTACH;FMTTYPE=image/jpeg:https://viadarda.ch/wp-content/uploads/2023/05/Domaine-de-Chafalet_Mathurin-Ramu_230516-WEB-H.jpg
ORGANIZER;CN="Les Vignerons de Dardagny":MAILTO:contact@viadarda.ch
END:VEVENT
BEGIN:VEVENT
DTSTART;TZID=Europe/Zurich:20250725T170000
DTEND;TZID=Europe/Zurich:20250725T190000
DTSTAMP:20260421T125936
CREATED:20240210T123636Z
LAST-MODIFIED:20250717T115228Z
UID:727-1753462800-1753470000@viadarda.ch
SUMMARY:Présence au caveau – Domaine Les Faunes
DESCRIPTION:Le caveau des vignerons de Dardagny vous ouvre ses portes. \n\n\n\nVenez à la rencontre de nos vignerons déguster leurs produits sélectionnés et partager un moment.
URL:https://viadarda.ch/evenement/474-2-2-3-2/
LOCATION:Le Caveau ViaDarda\, Ch. du Rail\, La Plaine\, Genève\, 1283\, Suisse
CATEGORIES:Ouverture du caveau
ATTACH;FMTTYPE=image/jpeg:https://viadarda.ch/wp-content/uploads/2024/02/Domaine-des-Faunes_230524-Frederic-et-Ludovic-Mistral-HD-H.jpg
ORGANIZER;CN="Les Vignerons de Dardagny":MAILTO:contact@viadarda.ch
END:VEVENT
BEGIN:VEVENT
DTSTART;TZID=Europe/Zurich:20250726T130000
DTEND;TZID=Europe/Zurich:20250726T170000
DTSTAMP:20260421T125936
CREATED:20230520T114539Z
LAST-MODIFIED:20250717T115317Z
UID:728-1753534800-1753549200@viadarda.ch
SUMMARY:Présence au caveau - Domaine Les Faunes
DESCRIPTION:Le caveau des vignerons de Dardagny vous ouvre ses portes. \n\n\n\nVenez à la rencontre de nos vignerons déguster leurs produits sélectionnés et partager un moment.
URL:https://viadarda.ch/evenement/presence-au-caveau-domaine-dugerdil-dardagny-6-2-2-4-2/
LOCATION:Le Caveau ViaDarda\, Ch. du Rail\, La Plaine\, Genève\, 1283\, Suisse
CATEGORIES:Ouverture du caveau
ATTACH;FMTTYPE=image/jpeg:https://viadarda.ch/wp-content/uploads/2024/02/Domaine-des-Faunes_230524-Frederic-et-Ludovic-Mistral-HD-H.jpg
ORGANIZER;CN="Les Vignerons de Dardagny":MAILTO:contact@viadarda.ch
END:VEVENT
BEGIN:VEVENT
DTSTART;TZID=Europe/Zurich:20250727T110000
DTEND;TZID=Europe/Zurich:20250727T150000
DTSTAMP:20260421T125936
CREATED:20230520T114539Z
LAST-MODIFIED:20250717T115355Z
UID:729-1753614000-1753628400@viadarda.ch
SUMMARY:Présence au caveau - Domaine Les Faunes
DESCRIPTION:Le caveau des vignerons de Dardagny vous ouvre ses portes. \n\n\n\nVenez à la rencontre de nos vignerons déguster leurs produits sélectionnés et partager un moment.
URL:https://viadarda.ch/evenement/presence-au-caveau-domaine-dugerdil-dardagny-4-2-2-3-2/
LOCATION:Le Caveau ViaDarda\, Ch. du Rail\, La Plaine\, Genève\, 1283\, Suisse
CATEGORIES:Ouverture du caveau
ATTACH;FMTTYPE=image/jpeg:https://viadarda.ch/wp-content/uploads/2024/02/Domaine-des-Faunes_230524-Frederic-et-Ludovic-Mistral-HD-H.jpg
ORGANIZER;CN="Les Vignerons de Dardagny":MAILTO:contact@viadarda.ch
END:VEVENT
END:VCALENDAR