BEGIN:VCALENDAR
VERSION:2.0
PRODID:-//ViaDarda - ECPv6.15.19//NONSGML v1.0//EN
CALSCALE:GREGORIAN
METHOD:PUBLISH
X-ORIGINAL-URL:https://viadarda.ch
X-WR-CALDESC:Évènements pour ViaDarda
REFRESH-INTERVAL;VALUE=DURATION:PT1H
X-Robots-Tag:noindex
X-PUBLISHED-TTL:PT1H
BEGIN:VTIMEZONE
TZID:Europe/Zurich
BEGIN:DAYLIGHT
TZOFFSETFROM:+0100
TZOFFSETTO:+0200
TZNAME:CEST
DTSTART:20240331T010000
END:DAYLIGHT
BEGIN:STANDARD
TZOFFSETFROM:+0200
TZOFFSETTO:+0100
TZNAME:CET
DTSTART:20241027T010000
END:STANDARD
BEGIN:DAYLIGHT
TZOFFSETFROM:+0100
TZOFFSETTO:+0200
TZNAME:CEST
DTSTART:20250330T010000
END:DAYLIGHT
BEGIN:STANDARD
TZOFFSETFROM:+0200
TZOFFSETTO:+0100
TZNAME:CET
DTSTART:20251026T010000
END:STANDARD
BEGIN:DAYLIGHT
TZOFFSETFROM:+0100
TZOFFSETTO:+0200
TZNAME:CEST
DTSTART:20260329T010000
END:DAYLIGHT
BEGIN:STANDARD
TZOFFSETFROM:+0200
TZOFFSETTO:+0100
TZNAME:CET
DTSTART:20261025T010000
END:STANDARD
END:VTIMEZONE
BEGIN:VEVENT
DTSTART;TZID=Europe/Zurich:20251207T110000
DTEND;TZID=Europe/Zurich:20251207T150000
DTSTAMP:20260421T233034
CREATED:20230520T114539Z
LAST-MODIFIED:20250717T123429Z
UID:786-1765105200-1765119600@viadarda.ch
SUMMARY:Présence au caveau - Stéphane Gros
DESCRIPTION:Le caveau des vignerons de Dardagny vous ouvre ses portes. \n\n\n\nVenez à la rencontre de nos vignerons déguster leurs produits sélectionnés et partager un moment.
URL:https://viadarda.ch/evenement/presence-au-caveau-domaine-dugerdil-dardagny-4-2-3-2-2/
LOCATION:Le Caveau ViaDarda\, Ch. du Rail\, La Plaine\, Genève\, 1283\, Suisse
CATEGORIES:Ouverture du caveau
ATTACH;FMTTYPE=image/jpeg:https://viadarda.ch/wp-content/uploads/2023/05/Cave-Stephane-Gros_Dardagny_240612-V-WEB.jpg
ORGANIZER;CN="Les Vignerons de Dardagny":MAILTO:contact@viadarda.ch
END:VEVENT
BEGIN:VEVENT
DTSTART;TZID=Europe/Zurich:20251207T170000
DTEND;TZID=Europe/Zurich:20251207T190000
DTSTAMP:20260421T233034
CREATED:20250717T124028Z
LAST-MODIFIED:20251119T090509Z
UID:799-1765126800-1765134000@viadarda.ch
SUMMARY:Contes à rebours
DESCRIPTION:Une soirée de contes\, avec la présence du Domaine Dugerdil et Domaine de La Roche.
URL:https://viadarda.ch/evenement/contes-a-rebourd/
LOCATION:Le Caveau ViaDarda\, Ch. du Rail\, La Plaine\, Genève\, 1283\, Suisse
CATEGORIES:Dégustation à Thème
END:VEVENT
END:VCALENDAR