BEGIN:VCALENDAR
VERSION:2.0
PRODID:-//ViaDarda - ECPv6.15.19//NONSGML v1.0//EN
CALSCALE:GREGORIAN
METHOD:PUBLISH
X-ORIGINAL-URL:https://viadarda.ch
X-WR-CALDESC:Évènements pour ViaDarda
REFRESH-INTERVAL;VALUE=DURATION:PT1H
X-Robots-Tag:noindex
X-PUBLISHED-TTL:PT1H
BEGIN:VTIMEZONE
TZID:Europe/Zurich
BEGIN:DAYLIGHT
TZOFFSETFROM:+0100
TZOFFSETTO:+0200
TZNAME:CEST
DTSTART:20240331T010000
END:DAYLIGHT
BEGIN:STANDARD
TZOFFSETFROM:+0200
TZOFFSETTO:+0100
TZNAME:CET
DTSTART:20241027T010000
END:STANDARD
BEGIN:DAYLIGHT
TZOFFSETFROM:+0100
TZOFFSETTO:+0200
TZNAME:CEST
DTSTART:20250330T010000
END:DAYLIGHT
BEGIN:STANDARD
TZOFFSETFROM:+0200
TZOFFSETTO:+0100
TZNAME:CET
DTSTART:20251026T010000
END:STANDARD
BEGIN:DAYLIGHT
TZOFFSETFROM:+0100
TZOFFSETTO:+0200
TZNAME:CEST
DTSTART:20260329T010000
END:DAYLIGHT
BEGIN:STANDARD
TZOFFSETFROM:+0200
TZOFFSETTO:+0100
TZNAME:CET
DTSTART:20261025T010000
END:STANDARD
END:VTIMEZONE
BEGIN:VEVENT
DTSTART;TZID=Europe/Zurich:20250524T100000
DTEND;TZID=Europe/Zurich:20250524T170000
DTSTAMP:20260421T135927
CREATED:20230505T104415Z
LAST-MODIFIED:20250430T144104Z
UID:655-1748080800-1748106000@viadarda.ch
SUMMARY:Caves Ouvertes dans le canton de Genève
DESCRIPTION:La traditionnelle journée « Caves Ouvertes » vous accueille dans la grande majorité des caves du canton. \n\n\n\n\n\n\n\nAchetez votre verre souvenir et découvrez tous les trésors que les vignerons du canton vous préparent. \n\n\n\n\n\nTous les vignerons étant biens occupés dans leurs caves – le caveau ViaDarda sera fermé ce jour là.
URL:https://viadarda.ch/evenement/caves-ouvertes-dans-le-canton-de-geneve-2-2/
LOCATION:Genève
ATTACH;FMTTYPE=image/jpeg:https://viadarda.ch/wp-content/uploads/2023/05/Caves_Ouvertes_OPAGE_Regis_Colombo_2023-10.jpg
ORGANIZER;CN="Gen%C3%A8ve Terroir":MAILTO:info@geneveterroir.ge.ch
END:VEVENT
END:VCALENDAR